5.0000000000
0.0000000000
0.0000000000
-5.0000000000
223209.0286076537
908636.6630999992
